BEGIN:VCALENDAR
VERSION:2.0
PRODID:-//Transferable Cross Training - ECPv6.1.3//NONSGML v1.0//EN
CALSCALE:GREGORIAN
METHOD:PUBLISH
X-WR-CALNAME:Transferable Cross Training
X-ORIGINAL-URL:https://transferablecrosstraining.org
X-WR-CALDESC:Events for Transferable Cross Training
REFRESH-INTERVAL;VALUE=DURATION:PT1H
X-Robots-Tag:noindex
X-PUBLISHED-TTL:PT1H
BEGIN:VTIMEZONE
TZID:America/Denver
BEGIN:DAYLIGHT
TZOFFSETFROM:-0700
TZOFFSETTO:-0600
TZNAME:MDT
DTSTART:20180311T090000
END:DAYLIGHT
BEGIN:STANDARD
TZOFFSETFROM:-0600
TZOFFSETTO:-0700
TZNAME:MST
DTSTART:20181104T080000
END:STANDARD
END:VTIMEZONE
BEGIN:VEVENT
DTSTART;TZID=America/Denver:20180421T090000
DTEND;TZID=America/Denver:20180421T173000
DTSTAMP:20260419T205949
CREATED:20180419T043616Z
LAST-MODIFIED:20180420T073719Z
UID:127-1524301200-1524331800@transferablecrosstraining.org
SUMMARY:World View Apologetics Conference Day 2
DESCRIPTION:
URL:https://transferablecrosstraining.org/event/world-view-apologetics-conference-day-2/
LOCATION:Westminster Chapel\, 13646 NE 24th Street\, Bellevue\, WA\, 98005\, United States
END:VEVENT
BEGIN:VEVENT
DTSTART;TZID=America/Denver:20180420T190000
DTEND;TZID=America/Denver:20180420T220000
DTSTAMP:20260419T205949
CREATED:20180419T043427Z
LAST-MODIFIED:20180420T073659Z
UID:124-1524250800-1524261600@transferablecrosstraining.org
SUMMARY:World View Apologetics Conference Day 1
DESCRIPTION:
URL:https://transferablecrosstraining.org/event/world-view-apologetics-conference-day-1/
LOCATION:Westminster Chapel\, 13646 NE 24th Street\, Bellevue\, WA\, 98005\, United States
END:VEVENT
END:VCALENDAR